BEGIN:VCALENDAR
VERSION:2.0
PRODID:-//Tukios.com/
BEGIN:VEVENT
UID:5efe2e97-f223-4fa1-bd46-334dc7098f6d@www.mfhtexas.com
DTSTAMP:20260424T191000Z
DTSTART:20260502T160000Z
DTEND:20260502T170000Z
SUMMARY:Mass
DESCRIPTION:
URL:https://www.mfhtexas.com/obituaries/uvaldo-castilleja
LOCATION: 402 W 1st St  Hearne TX 77859
GEO:30.8779179;-96.5971451
END:VEVENT
END:VCALENDAR