BEGIN:VCALENDAR
VERSION:2.0
PRODID:-//Tukios.com/
BEGIN:VEVENT
UID:1ee4293f-7086-465e-ac42-afd32b5122cf@www.mfhtexas.com
DTSTAMP:20260424T190959Z
DTSTART:20260502T153000Z
DTEND:20260502T160000Z
SUMMARY:Rosary
DESCRIPTION:
URL:https://www.mfhtexas.com/obituaries/uvaldo-castilleja
LOCATION: 402 W 1st St  Hearne TX 77859
GEO:30.8779179;-96.5971451
END:VEVENT
END:VCALENDAR