BEGIN:VCALENDAR
VERSION:2.0
PRODID:-//Tukios.com/
BEGIN:VEVENT
UID:bad06ff8-ee7b-4248-8e61-3b211b6fe551@www.mfhtexas.com
DTSTAMP:20260424T191210Z
DTSTART:20260502T143000Z
DTEND:20260502T153000Z
SUMMARY:Visitation
DESCRIPTION:
URL:https://www.mfhtexas.com/obituaries/uvaldo-castilleja
LOCATION: 402 W 1st St  Hearne TX 77859
GEO:30.8779179;-96.5971451
END:VEVENT
END:VCALENDAR