BEGIN:VCALENDAR
VERSION:2.0
PRODID:-//Tukios.com/
BEGIN:VEVENT
UID:94cd711d-7818-4fcd-b79c-9b1f25990354@www.mfhtexas.com
DTSTAMP:20260423T031643Z
DTSTART:20260425T201500Z
DTEND:20260425T204500Z
SUMMARY:Burial
DESCRIPTION:
URL:https://www.mfhtexas.com/obituaries/claudia-ramsay
LOCATION: Turn left at Te-Jos Drive In Grocery & Gas Station. Go all the 
	way down the road, Cemetery is on your RIGHT.  Hearne TX 77859
GEO:30.8785238;-96.5930258
END:VEVENT
END:VCALENDAR