BEGIN:VCALENDAR
VERSION:2.0
PRODID:-//Tukios.com/
BEGIN:VEVENT
UID:d3565fbf-780e-4430-b6b7-56a0154ce722@www.mfhtexas.com
DTSTAMP:20260423T031504Z
DTSTART:20260425T183000Z
DTEND:20260425T193000Z
SUMMARY:Funeral Service
DESCRIPTION:
URL:https://www.mfhtexas.com/obituaries/claudia-ramsay
LOCATION:Grace Bible Church: Anderson Campus 700 Anderson St  College 
	Station TX 77840
GEO:30.6100051;-96.3231042
END:VEVENT
END:VCALENDAR